Package: BAGS Version: 2.40.0 Command: /home/biocbuild/bbs-3.17-bioc/R/bin/R CMD check --install=check:BAGS.install-out.txt --library=/home/biocbuild/bbs-3.17-bioc/R/site-library --timings BAGS_2.40.0.tar.gz StartedAt: 2023-10-15 19:19:54 -0400 (Sun, 15 Oct 2023) EndedAt: 2023-10-15 19:23:02 -0400 (Sun, 15 Oct 2023) EllapsedTime: 188.0 seconds RetCode: 0 Status: OK CheckDir: BAGS.Rcheck Warnings: 0