Package: BAGS Version: 2.40.0 Command: /Library/Frameworks/R.framework/Resources/bin/R CMD build --keep-empty-dirs --no-resave-data BAGS StartedAt: 2023-10-15 16:48:21 -0400 (Sun, 15 Oct 2023) EndedAt: 2023-10-15 16:50:29 -0400 (Sun, 15 Oct 2023) EllapsedTime: 127.7 seconds RetCode: 0 Status: OK PackageFile: BAGS_2.40.0.tar.gz PackageFileSize: 273.3 KiB