Package: Anaquin Version: 2.24.0 Command: F:\biocbuild\bbs-3.17-bioc\R\bin\R.exe CMD check --no-multiarch --install=check:Anaquin.install-out.txt --library=F:\biocbuild\bbs-3.17-bioc\R\library --no-vignettes --timings Anaquin_2.24.0.tar.gz StartedAt: 2023-10-15 23:24:16 -0400 (Sun, 15 Oct 2023) EndedAt: 2023-10-15 23:25:15 -0400 (Sun, 15 Oct 2023) EllapsedTime: 58.6 seconds RetCode: 0 Status: OK CheckDir: Anaquin.Rcheck Warnings: 0