Package: AlphaBeta Version: 1.14.0 Command: /home/biocbuild/bbs-3.17-bioc/R/bin/R CMD build --keep-empty-dirs --no-resave-data AlphaBeta StartedAt: 2023-10-15 15:54:26 -0400 (Sun, 15 Oct 2023) EndedAt: 2023-10-15 15:58:06 -0400 (Sun, 15 Oct 2023) EllapsedTime: 219.8 seconds RetCode: 0 Status: OK PackageFile: AlphaBeta_1.14.0.tar.gz PackageFileSize: 2.476 MiB