Package: AlphaBeta Version: 1.14.0 Command: /Library/Frameworks/R.framework/Resources/bin/R CMD INSTALL AlphaBeta StartedAt: 2023-10-15 15:52:17 -0400 (Sun, 15 Oct 2023) EndedAt: 2023-10-15 15:53:06 -0400 (Sun, 15 Oct 2023) EllapsedTime: 48.5 seconds RetCode: 0 Status: OK