Package: ASURAT Version: 1.4.0 Command: rm -rf ASURAT.buildbin-libdir && mkdir ASURAT.buildbin-libdir && F:\biocbuild\bbs-3.17-bioc\R\bin\R.exe CMD INSTALL --build --library=ASURAT.buildbin-libdir ASURAT_1.4.0.tar.gz StartedAt: 2023-10-16 08:25:42 -0400 (Mon, 16 Oct 2023) EndedAt: 2023-10-16 08:26:24 -0400 (Mon, 16 Oct 2023) EllapsedTime: 41.4 seconds RetCode: 0 Status: OK PackageFile: ASURAT_1.4.0.zip PackageFileSize: 3.336 MiB