Package: ASSIGN Version: 1.36.0 Command: chmod a+r ASSIGN -R && F:\biocbuild\bbs-3.17-bioc\R\bin\R.exe CMD build --keep-empty-dirs --no-resave-data ASSIGN StartedAt: 2023-10-15 17:23:35 -0400 (Sun, 15 Oct 2023) EndedAt: 2023-10-15 17:23:45 -0400 (Sun, 15 Oct 2023) EllapsedTime: 10.0 seconds RetCode: 0 Status: OK PackageFile: ASSIGN_1.36.0.tar.gz PackageFileSize: 1.621 MiB