Package: ASSET Version: 2.18.0 Command: rm -rf ASSET.buildbin-libdir && mkdir ASSET.buildbin-libdir && /Users/biocbuild/BBS/utils/build-universal.sh ASSET_2.18.0.tar.gz /Library/Frameworks/R.framework/Resources/bin/R ASSET.buildbin-libdir StartedAt: 2023-10-16 08:58:33 -0400 (Mon, 16 Oct 2023) EndedAt: 2023-10-16 08:58:59 -0400 (Mon, 16 Oct 2023) EllapsedTime: 26.0 seconds RetCode: 0 Status: OK PackageFile: ASSET_2.18.0.tgz PackageFileSize: 474 KiB