Package: ANF Version: 1.22.0 Command: /home/biocbuild/bbs-3.17-bioc/R/bin/R CMD build --keep-empty-dirs --no-resave-data ANF StartedAt: 2023-10-15 15:54:50 -0400 (Sun, 15 Oct 2023) EndedAt: 2023-10-15 15:57:51 -0400 (Sun, 15 Oct 2023) EllapsedTime: 180.2 seconds RetCode: 0 Status: OK PackageFile: ANF_1.22.0.tar.gz PackageFileSize: 683 KiB