Package: ADaCGH2 Version: 2.40.0 Command: /home/biocbuild/bbs-3.17-bioc/R/bin/R CMD check --install=check:ADaCGH2.install-out.txt --library=/home/biocbuild/bbs-3.17-bioc/R/site-library --timings ADaCGH2_2.40.0.tar.gz StartedAt: 2023-10-15 19:05:11 -0400 (Sun, 15 Oct 2023) EndedAt: 2023-10-15 19:12:13 -0400 (Sun, 15 Oct 2023) EllapsedTime: 422.4 seconds RetCode: 0 Status: OK CheckDir: ADaCGH2.Rcheck Warnings: 0