Package: ADaCGH2 Version: 2.40.0 Command: rm -rf ADaCGH2.buildbin-libdir && mkdir ADaCGH2.buildbin-libdir && /Users/biocbuild/BBS/utils/build-universal.sh ADaCGH2_2.40.0.tar.gz /Library/Frameworks/R.framework/Resources/bin/R ADaCGH2.buildbin-libdir StartedAt: 2023-10-16 08:56:17 -0400 (Mon, 16 Oct 2023) EndedAt: 2023-10-16 08:57:48 -0400 (Mon, 16 Oct 2023) EllapsedTime: 91.3 seconds RetCode: 0 Status: OK PackageFile: ADaCGH2_2.40.0.tgz PackageFileSize: 1.309 MiB