Package: ADImpute Version: 1.10.0 Command: /home/biocbuild/bbs-3.17-bioc/R/bin/R CMD check --install=check:ADImpute.install-out.txt --library=/home/biocbuild/bbs-3.17-bioc/R/site-library --timings ADImpute_1.10.0.tar.gz StartedAt: 2023-10-15 19:05:11 -0400 (Sun, 15 Oct 2023) EndedAt: 2023-10-15 19:07:20 -0400 (Sun, 15 Oct 2023) EllapsedTime: 129.4 seconds RetCode: 0 Status: WARNINGS CheckDir: ADImpute.Rcheck Warnings: 1