Package: rnaseqDTU Version: 1.18.0 Command: /Library/Frameworks/R.framework/Resources/bin/R CMD INSTALL rnaseqDTU StartedAt: 2023-04-11 11:00:17 -0400 (Tue, 11 Apr 2023) EndedAt: 2023-04-11 11:00:51 -0400 (Tue, 11 Apr 2023) EllapsedTime: 34.3 seconds RetCode: 0 Status: OK