Package: annotation Version: 1.22.0 Command: F:\biocbuild\bbs-3.16-bioc\R\bin\R.exe CMD INSTALL annotation StartedAt: 2023-04-11 11:00:59 -0400 (Tue, 11 Apr 2023) EndedAt: 2023-04-11 11:01:31 -0400 (Tue, 11 Apr 2023) EllapsedTime: 32.1 seconds RetCode: 0 Status: OK