Package: GeoMxWorkflows Version: 1.4.0 Command: /Library/Frameworks/R.framework/Resources/bin/R CMD INSTALL GeoMxWorkflows StartedAt: 2023-04-11 11:00:16 -0400 (Tue, 11 Apr 2023) EndedAt: 2023-04-11 11:00:30 -0400 (Tue, 11 Apr 2023) EllapsedTime: 13.3 seconds RetCode: 0 Status: OK