Package: AHCytoBands Version: 0.99.1 Command: /home/biocbuild/bbs-3.16-bioc/R/bin/R CMD check --install=check:AHCytoBands.install-out.txt --library=/home/biocbuild/bbs-3.16-bioc/R/site-library --timings AHCytoBands_0.99.1.tar.gz StartedAt: 2023-04-12 03:04:31 -0400 (Wed, 12 Apr 2023) EndedAt: 2023-04-12 03:04:40 -0400 (Wed, 12 Apr 2023) EllapsedTime: 9.4 seconds RetCode: 0 Status: OK CheckDir: AHCytoBands.Rcheck Warnings: 0