Package: trackViewer Version: 1.34.0 Command: rm -rf trackViewer.buildbin-libdir && mkdir trackViewer.buildbin-libdir && /Users/biocbuild/BBS/utils/build-universal.sh trackViewer_1.34.0.tar.gz /Library/Frameworks/R.framework/Resources/bin/R trackViewer.buildbin-libdir StartedAt: 2023-04-18 20:11:51 -0400 (Tue, 18 Apr 2023) EndedAt: 2023-04-18 20:14:32 -0400 (Tue, 18 Apr 2023) EllapsedTime: 161.0 seconds RetCode: 0 Status: OK PackageFile: trackViewer_1.34.0.tgz PackageFileSize: 9.178 MiB