Package: target Version: 1.12.0 Command: rm -rf target.buildbin-libdir && mkdir target.buildbin-libdir && /Users/biocbuild/BBS/utils/build-universal.sh target_1.12.0.tar.gz /Library/Frameworks/R.framework/Resources/bin/R target.buildbin-libdir StartedAt: 2023-04-18 20:03:38 -0400 (Tue, 18 Apr 2023) EndedAt: 2023-04-18 20:04:10 -0400 (Tue, 18 Apr 2023) EllapsedTime: 31.8 seconds RetCode: 0 Status: OK PackageFile: target_1.12.0.tgz PackageFileSize: 3.32 MiB