Package: sights Version: 1.24.0 Command: /Library/Frameworks/R.framework/Resources/bin/R CMD INSTALL sights StartedAt: 2023-04-16 14:39:38 -0400 (Sun, 16 Apr 2023) EndedAt: 2023-04-16 14:39:47 -0400 (Sun, 16 Apr 2023) EllapsedTime: 8.9 seconds RetCode: 0 Status: OK