Package: seqPattern Version: 1.30.0 Command: rm -rf seqPattern.buildbin-libdir && mkdir seqPattern.buildbin-libdir && /Users/biocbuild/BBS/utils/build-universal.sh seqPattern_1.30.0.tar.gz /Library/Frameworks/R.framework/Resources/bin/R seqPattern.buildbin-libdir StartedAt: 2023-04-18 19:31:01 -0400 (Tue, 18 Apr 2023) EndedAt: 2023-04-18 19:31:30 -0400 (Tue, 18 Apr 2023) EllapsedTime: 28.9 seconds RetCode: 0 Status: OK PackageFile: seqPattern_1.30.0.tgz PackageFileSize: 3.519 MiB