Package: seqCNA Version: 1.44.0 Command: /Library/Frameworks/R.framework/Resources/bin/R CMD build --keep-empty-dirs --no-resave-data seqCNA StartedAt: 2023-04-18 07:08:35 -0400 (Tue, 18 Apr 2023) EndedAt: 2023-04-18 07:09:02 -0400 (Tue, 18 Apr 2023) EllapsedTime: 27.3 seconds RetCode: 0 Status: OK PackageFile: seqCNA_1.44.0.tar.gz PackageFileSize: 1.253 MiB