Package: seqCNA Version: 1.44.0 Command: rm -rf seqCNA.buildbin-libdir && mkdir seqCNA.buildbin-libdir && /Users/biocbuild/BBS/utils/build-universal.sh seqCNA_1.44.0.tar.gz /Library/Frameworks/R.framework/Resources/bin/R seqCNA.buildbin-libdir StartedAt: 2023-04-18 19:30:09 -0400 (Tue, 18 Apr 2023) EndedAt: 2023-04-18 19:30:26 -0400 (Tue, 18 Apr 2023) EllapsedTime: 16.4 seconds RetCode: 0 Status: OK PackageFile: seqCNA_1.44.0.tgz PackageFileSize: 1.357 MiB