Package: scTGIF Version: 1.12.0 Command: rm -rf scTGIF.buildbin-libdir && mkdir scTGIF.buildbin-libdir && /Users/biocbuild/BBS/utils/build-universal.sh scTGIF_1.12.0.tar.gz /Library/Frameworks/R.framework/Resources/bin/R scTGIF.buildbin-libdir StartedAt: 2023-04-18 19:25:01 -0400 (Tue, 18 Apr 2023) EndedAt: 2023-04-18 19:31:12 -0400 (Tue, 18 Apr 2023) EllapsedTime: 370.9 seconds RetCode: 0 Status: OK PackageFile: scTGIF_1.12.0.tgz PackageFileSize: 2 MiB