Package: safe Version: 3.38.0 Command: /Library/Frameworks/R.framework/Resources/bin/R CMD INSTALL safe StartedAt: 2023-04-16 15:13:39 -0400 (Sun, 16 Apr 2023) EndedAt: 2023-04-16 15:14:07 -0400 (Sun, 16 Apr 2023) EllapsedTime: 28.7 seconds RetCode: 0 Status: OK