Package: rTRMui Version: 1.36.0 Command: /Library/Frameworks/R.framework/Resources/bin/R CMD INSTALL rTRMui StartedAt: 2023-04-16 16:50:16 -0400 (Sun, 16 Apr 2023) EndedAt: 2023-04-16 16:51:41 -0400 (Sun, 16 Apr 2023) EllapsedTime: 85.2 seconds RetCode: 0 Status: OK