Package: proteasy Version: 1.0.0 Command: /Library/Frameworks/R.framework/Resources/bin/R CMD build --keep-empty-dirs --no-resave-data proteasy StartedAt: 2023-04-17 22:45:22 -0400 (Mon, 17 Apr 2023) EndedAt: 2023-04-17 22:46:19 -0400 (Mon, 17 Apr 2023) EllapsedTime: 57.2 seconds RetCode: 0 Status: OK PackageFile: proteasy_1.0.0.tar.gz PackageFileSize: 2.67 MiB