Package: multiSight Version: 1.6.0 Command: rm -rf multiSight.buildbin-libdir && mkdir multiSight.buildbin-libdir && /Users/biocbuild/BBS/utils/build-universal.sh multiSight_1.6.0.tar.gz /Library/Frameworks/R.framework/Resources/bin/R multiSight.buildbin-libdir StartedAt: 2023-04-18 17:42:47 -0400 (Tue, 18 Apr 2023) EndedAt: 2023-04-18 17:45:03 -0400 (Tue, 18 Apr 2023) EllapsedTime: 135.6 seconds RetCode: 0 Status: OK PackageFile: multiSight_1.6.0.tgz PackageFileSize: 2.528 MiB