Package: mirIntegrator Version: 1.28.0 Command: rm -rf mirIntegrator.buildbin-libdir && mkdir mirIntegrator.buildbin-libdir && /Users/biocbuild/BBS/utils/build-universal.sh mirIntegrator_1.28.0.tar.gz /Library/Frameworks/R.framework/Resources/bin/R mirIntegrator.buildbin-libdir StartedAt: 2023-04-18 17:22:03 -0400 (Tue, 18 Apr 2023) EndedAt: 2023-04-18 17:22:47 -0400 (Tue, 18 Apr 2023) EllapsedTime: 44.8 seconds RetCode: 0 Status: OK PackageFile: mirIntegrator_1.28.0.tgz PackageFileSize: 1.841 MiB