Package: miRcomp Version: 1.28.0 Command: /Library/Frameworks/R.framework/Resources/bin/R CMD build --keep-empty-dirs --no-resave-data miRcomp StartedAt: 2023-04-17 15:29:31 -0400 (Mon, 17 Apr 2023) EndedAt: 2023-04-17 15:30:16 -0400 (Mon, 17 Apr 2023) EllapsedTime: 44.4 seconds RetCode: 0 Status: OK PackageFile: miRcomp_1.28.0.tar.gz PackageFileSize: 3.209 MiB