Package: metahdep Version: 1.56.0 Command: /Library/Frameworks/R.framework/Resources/bin/R CMD build --keep-empty-dirs --no-resave-data metahdep StartedAt: 2023-04-17 13:48:12 -0400 (Mon, 17 Apr 2023) EndedAt: 2023-04-17 13:48:26 -0400 (Mon, 17 Apr 2023) EllapsedTime: 13.1 seconds RetCode: 0 Status: OK PackageFile: metahdep_1.56.0.tar.gz PackageFileSize: 550.9 KiB