Package: metahdep Version: 1.56.0 Command: rm -rf metahdep.buildbin-libdir && mkdir metahdep.buildbin-libdir && /Users/biocbuild/BBS/utils/build-universal.sh metahdep_1.56.0.tar.gz /Library/Frameworks/R.framework/Resources/bin/R metahdep.buildbin-libdir StartedAt: 2023-04-18 17:06:24 -0400 (Tue, 18 Apr 2023) EndedAt: 2023-04-18 17:06:37 -0400 (Tue, 18 Apr 2023) EllapsedTime: 13.1 seconds RetCode: 0 Status: OK PackageFile: metahdep_1.56.0.tgz PackageFileSize: 646.5 KiB