Package: iChip Version: 1.52.0 Command: /Library/Frameworks/R.framework/Resources/bin/R CMD INSTALL iChip StartedAt: 2023-04-16 14:06:44 -0400 (Sun, 16 Apr 2023) EndedAt: 2023-04-16 14:06:50 -0400 (Sun, 16 Apr 2023) EllapsedTime: 6.0 seconds RetCode: 0 Status: OK