Package: hummingbird Version: 1.8.0 Command: rm -rf hummingbird.buildbin-libdir && mkdir hummingbird.buildbin-libdir && /Users/biocbuild/BBS/utils/build-universal.sh hummingbird_1.8.0.tar.gz /Library/Frameworks/R.framework/Resources/bin/R hummingbird.buildbin-libdir StartedAt: 2023-04-18 16:28:50 -0400 (Tue, 18 Apr 2023) EndedAt: 2023-04-18 16:29:49 -0400 (Tue, 18 Apr 2023) EllapsedTime: 59.2 seconds RetCode: 0 Status: OK PackageFile: hummingbird_1.8.0.tgz PackageFileSize: 478.7 KiB