Package: globaltest Version: 5.52.1 Command: /Library/Frameworks/R.framework/Resources/bin/R CMD build --keep-empty-dirs --no-resave-data globaltest StartedAt: 2023-04-17 08:32:07 -0400 (Mon, 17 Apr 2023) EndedAt: 2023-04-17 09:12:07 -0400 (Mon, 17 Apr 2023) EllapsedTime: 2400.2 seconds RetCode: None Status: TIMEOUT PackageFile: None PackageFileSize: NA