Package: getDEE2 Version: 1.8.0 Command: /Library/Frameworks/R.framework/Resources/bin/R CMD build --keep-empty-dirs --no-resave-data getDEE2 StartedAt: 2023-04-17 08:00:01 -0400 (Mon, 17 Apr 2023) EndedAt: 2023-04-17 08:01:16 -0400 (Mon, 17 Apr 2023) EllapsedTime: 74.8 seconds RetCode: 0 Status: OK PackageFile: getDEE2_1.8.0.tar.gz PackageFileSize: 21.55 KiB