Package: geneRxCluster Version: 1.34.0 Command: rm -rf geneRxCluster.buildbin-libdir && mkdir geneRxCluster.buildbin-libdir && /Users/biocbuild/BBS/utils/build-universal.sh geneRxCluster_1.34.0.tar.gz /Library/Frameworks/R.framework/Resources/bin/R geneRxCluster.buildbin-libdir StartedAt: 2023-04-18 16:00:47 -0400 (Tue, 18 Apr 2023) EndedAt: 2023-04-18 16:01:14 -0400 (Tue, 18 Apr 2023) EllapsedTime: 26.9 seconds RetCode: 0 Status: OK PackageFile: geneRxCluster_1.34.0.tgz PackageFileSize: 333.9 KiB