Package: gemini Version: 1.12.0 Command: rm -rf gemini.buildbin-libdir && mkdir gemini.buildbin-libdir && /Users/biocbuild/BBS/utils/build-universal.sh gemini_1.12.0.tar.gz /Library/Frameworks/R.framework/Resources/bin/R gemini.buildbin-libdir StartedAt: 2023-04-18 15:57:27 -0400 (Tue, 18 Apr 2023) EndedAt: 2023-04-18 15:57:55 -0400 (Tue, 18 Apr 2023) EllapsedTime: 27.8 seconds RetCode: 0 Status: OK PackageFile: gemini_1.12.0.tgz PackageFileSize: 4.183 MiB