| Back to Mac ARM64 build report for BioC 3.16 |
|
This page was generated on 2023-04-19 11:01:48 -0400 (Wed, 19 Apr 2023).
| Hostname | OS | Arch (*) | R version | Installed pkgs |
|---|---|---|---|---|
| kjohnson | macOS 13.0 Ventura | arm64 | 4.2.2 (2022-10-31) -- "Innocent and Trusting" | 4256 |
| Click on any hostname to see more info about the system (e.g. compilers) (*) as reported by 'uname -p', except on Windows and Mac OS X | ||||
|
To the developers/maintainers of the gdsfmt package: Make sure to use the following settings in order to reproduce any error or warning you see on this page. |
| Package 745/2183 | Hostname | OS / Arch | INSTALL | BUILD | BUILD BIN | ||||||||
| gdsfmt 1.34.1 (landing page) Xiuwen Zheng
| kjohnson | macOS 13.0 Ventura / arm64 | OK | OK | OK | ||||||||
| QUICK STATS | OS / Arch | INSTALL | BUILD | BUILD BIN | |||||||||||||
| kjohnson | macOS 13.0 Ventura / arm64 |
|
|
| |||||||||||||
| Package 1/14 | Hostname | OS / Arch | INSTALL | BUILD | BUILD BIN | ||||||||||||
| bigmelon 1.24.0 (landing page) Tyler J. Gorrie-Stone
| kjohnson | macOS 13.0 Ventura / arm64 | OK | OK | OK | ||||||||||||
| Package 2/14 | Hostname | OS / Arch | INSTALL | BUILD | BUILD BIN | ||||||||||||
| CNVRanger 1.14.0 (landing page) Ludwig Geistlinger
| kjohnson | macOS 13.0 Ventura / arm64 | OK | OK | OK | ||||||||||||
| Package 3/14 | Hostname | OS / Arch | INSTALL | BUILD | BUILD BIN | ||||||||||||
| GBScleanR 1.2.14 (landing page) Tomoyuki Furuta
| kjohnson | macOS 13.0 Ventura / arm64 | OK | OK | OK | ||||||||||||
| Package 4/14 | Hostname | OS / Arch | INSTALL | BUILD | BUILD BIN | ||||||||||||
| GDSArray 1.18.0 (landing page) Qian Liu
| kjohnson | macOS 13.0 Ventura / arm64 | OK | OK | OK | ||||||||||||
| Package 5/14 | Hostname | OS / Arch | INSTALL | BUILD | BUILD BIN | ||||||||||||
| GENESIS 2.28.0 (landing page) Stephanie M. Gogarten
| kjohnson | macOS 13.0 Ventura / arm64 | OK | OK | OK | ||||||||||||
| Package 6/14 | Hostname | OS / Arch | INSTALL | BUILD | BUILD BIN | ||||||||||||
| ggmanh 1.2.0 (landing page) John Lee
| kjohnson | macOS 13.0 Ventura / arm64 | OK | OK | OK | ||||||||||||
| Package 7/14 | Hostname | OS / Arch | INSTALL | BUILD | BUILD BIN | ||||||||||||
| GWASTools 1.44.0 (landing page) Stephanie M. Gogarten
| kjohnson | macOS 13.0 Ventura / arm64 | OK | OK | OK | ||||||||||||
| Package 8/14 | Hostname | OS / Arch | INSTALL | BUILD | BUILD BIN | ||||||||||||
| SAIGEgds 1.12.5 (landing page) Xiuwen Zheng
| kjohnson | macOS 13.0 Ventura / arm64 | OK | OK | OK | ||||||||||||
| Package 9/14 | Hostname | OS / Arch | INSTALL | BUILD | BUILD BIN | ||||||||||||
| SCArray 1.6.0 (landing page) Xiuwen Zheng
| kjohnson | macOS 13.0 Ventura / arm64 | OK | OK | OK | ||||||||||||
| Package 10/14 | Hostname | OS / Arch | INSTALL | BUILD | BUILD BIN | ||||||||||||
| SeqArray 1.38.0 (landing page) Xiuwen Zheng
| kjohnson | macOS 13.0 Ventura / arm64 | OK | OK | OK | ||||||||||||
| Package 11/14 | Hostname | OS / Arch | INSTALL | BUILD | BUILD BIN | ||||||||||||
| SeqSQC 1.20.0 (landing page) Qian Liu
| kjohnson | macOS 13.0 Ventura / arm64 | OK | OK | OK | ||||||||||||
| Package 12/14 | Hostname | OS / Arch | INSTALL | BUILD | BUILD BIN | ||||||||||||
| SeqVarTools 1.36.0 (landing page) Stephanie M. Gogarten
| kjohnson | macOS 13.0 Ventura / arm64 | OK | OK | OK | ||||||||||||
| Package 13/14 | Hostname | OS / Arch | INSTALL | BUILD | BUILD BIN | ||||||||||||
| SNPRelate 1.32.2 (landing page) Xiuwen Zheng
| kjohnson | macOS 13.0 Ventura / arm64 | OK | OK | OK | ||||||||||||
| Package 14/14 | Hostname | OS / Arch | INSTALL | BUILD | BUILD BIN | ||||||||||||
| VariantExperiment 1.12.0 (landing page) Qian Liu
| kjohnson | macOS 13.0 Ventura / arm64 | OK | OK | OK | ||||||||||||