Package: gCrisprTools Version: 2.4.0 Command: /Library/Frameworks/R.framework/Resources/bin/R CMD INSTALL gCrisprTools StartedAt: 2023-04-16 14:57:21 -0400 (Sun, 16 Apr 2023) EndedAt: 2023-04-16 14:57:58 -0400 (Sun, 16 Apr 2023) EllapsedTime: 37.2 seconds RetCode: 0 Status: OK