Package: extraChIPs Version: 1.2.4 Command: /Library/Frameworks/R.framework/Resources/bin/R CMD build --keep-empty-dirs --no-resave-data extraChIPs StartedAt: 2023-04-17 06:04:08 -0400 (Mon, 17 Apr 2023) EndedAt: 2023-04-17 06:07:00 -0400 (Mon, 17 Apr 2023) EllapsedTime: 171.8 seconds RetCode: 0 Status: OK PackageFile: extraChIPs_1.2.4.tar.gz PackageFileSize: 2.231 MiB