Package: dada2 Version: 1.26.0 Command: /Library/Frameworks/R.framework/Resources/bin/R CMD INSTALL dada2 StartedAt: 2023-04-16 16:08:41 -0400 (Sun, 16 Apr 2023) EndedAt: 2023-04-16 16:10:56 -0400 (Sun, 16 Apr 2023) EllapsedTime: 134.5 seconds RetCode: 0 Status: OK