Package: crisprDesign Version: 1.0.0 Command: rm -rf crisprDesign.buildbin-libdir && mkdir crisprDesign.buildbin-libdir && /Users/biocbuild/BBS/utils/build-universal.sh crisprDesign_1.0.0.tar.gz /Library/Frameworks/R.framework/Resources/bin/R crisprDesign.buildbin-libdir StartedAt: 2023-04-18 14:52:51 -0400 (Tue, 18 Apr 2023) EndedAt: 2023-04-18 14:55:55 -0400 (Tue, 18 Apr 2023) EllapsedTime: 184.1 seconds RetCode: 0 Status: OK PackageFile: crisprDesign_1.0.0.tgz PackageFileSize: 3.667 MiB