Package: cageminer Version: 1.4.0 Command: rm -rf cageminer.buildbin-libdir && mkdir cageminer.buildbin-libdir && /Users/biocbuild/BBS/utils/build-universal.sh cageminer_1.4.0.tar.gz /Library/Frameworks/R.framework/Resources/bin/R cageminer.buildbin-libdir StartedAt: 2023-04-18 14:10:00 -0400 (Tue, 18 Apr 2023) EndedAt: 2023-04-18 14:13:01 -0400 (Tue, 18 Apr 2023) EllapsedTime: 180.6 seconds RetCode: 0 Status: OK PackageFile: cageminer_1.4.0.tgz PackageFileSize: 1.225 MiB