Package: biocthis Version: 1.8.3 Command: /Library/Frameworks/R.framework/Resources/bin/R CMD build --keep-empty-dirs --no-resave-data biocthis StartedAt: 2023-04-16 21:53:56 -0400 (Sun, 16 Apr 2023) EndedAt: 2023-04-16 21:54:13 -0400 (Sun, 16 Apr 2023) EllapsedTime: 16.5 seconds RetCode: 0 Status: OK PackageFile: biocthis_1.8.3.tar.gz PackageFileSize: 628.3 KiB