Package: bigPint Version: 1.14.0 Command: rm -rf bigPint.buildbin-libdir && mkdir bigPint.buildbin-libdir && /Users/biocbuild/BBS/utils/build-universal.sh bigPint_1.14.0.tar.gz /Library/Frameworks/R.framework/Resources/bin/R bigPint.buildbin-libdir StartedAt: 2023-04-18 13:54:07 -0400 (Tue, 18 Apr 2023) EndedAt: 2023-04-18 13:55:19 -0400 (Tue, 18 Apr 2023) EllapsedTime: 71.8 seconds RetCode: 0 Status: OK PackageFile: bigPint_1.14.0.tgz PackageFileSize: 5.596 MiB