Package: beer Version: 1.2.0 Command: /Library/Frameworks/R.framework/Resources/bin/R CMD build --keep-empty-dirs --no-resave-data beer StartedAt: 2023-04-16 21:15:58 -0400 (Sun, 16 Apr 2023) EndedAt: 2023-04-16 21:18:58 -0400 (Sun, 16 Apr 2023) EllapsedTime: 179.9 seconds RetCode: 0 Status: OK PackageFile: beer_1.2.0.tar.gz PackageFileSize: 543.1 KiB