Package: bayNorm Version: 1.16.2 Command: /Library/Frameworks/R.framework/Resources/bin/R CMD build --keep-empty-dirs --no-resave-data bayNorm StartedAt: 2023-04-16 20:58:22 -0400 (Sun, 16 Apr 2023) EndedAt: 2023-04-16 20:59:57 -0400 (Sun, 16 Apr 2023) EllapsedTime: 94.9 seconds RetCode: 0 Status: OK PackageFile: bayNorm_1.16.2.tar.gz PackageFileSize: 1.526 MiB