Package: atSNP Version: 1.14.0 Command: /Library/Frameworks/R.framework/Resources/bin/R CMD build --keep-empty-dirs --no-resave-data atSNP StartedAt: 2023-04-16 20:21:17 -0400 (Sun, 16 Apr 2023) EndedAt: 2023-04-16 20:22:46 -0400 (Sun, 16 Apr 2023) EllapsedTime: 89.7 seconds RetCode: 0 Status: OK PackageFile: atSNP_1.14.0.tar.gz PackageFileSize: 937.7 KiB