Package: atSNP Version: 1.14.0 Command: rm -rf atSNP.buildbin-libdir && mkdir atSNP.buildbin-libdir && /Users/biocbuild/BBS/utils/build-universal.sh atSNP_1.14.0.tar.gz /Library/Frameworks/R.framework/Resources/bin/R atSNP.buildbin-libdir StartedAt: 2023-04-18 13:41:00 -0400 (Tue, 18 Apr 2023) EndedAt: 2023-04-18 13:43:36 -0400 (Tue, 18 Apr 2023) EllapsedTime: 155.8 seconds RetCode: 0 Status: OK PackageFile: atSNP_1.14.0.tgz PackageFileSize: 1.041 MiB