| Back to Mac ARM64 build report for BioC 3.16 |
|
This page was generated on 2023-04-19 11:01:46 -0400 (Wed, 19 Apr 2023).
| Hostname | OS | Arch (*) | R version | Installed pkgs |
|---|---|---|---|---|
| kjohnson | macOS 13.0 Ventura | arm64 | 4.2.2 (2022-10-31) -- "Innocent and Trusting" | 4256 |
| Click on any hostname to see more info about the system (e.g. compilers) (*) as reported by 'uname -p', except on Windows and Mac OS X | ||||
|
To the developers/maintainers of the affxparser package: Make sure to use the following settings in order to reproduce any error or warning you see on this page. |
| Package 21/2183 | Hostname | OS / Arch | INSTALL | BUILD | BUILD BIN | ||||||||
| affxparser 1.70.0 (landing page) Kasper Daniel Hansen
| kjohnson | macOS 13.0 Ventura / arm64 | OK | OK | OK | ||||||||
| QUICK STATS | OS / Arch | INSTALL | BUILD | BUILD BIN | |||||||||||||
| kjohnson | macOS 13.0 Ventura / arm64 |
|
|
| |||||||||||||
| Package 1/9 | Hostname | OS / Arch | INSTALL | BUILD | BUILD BIN | ||||||||||||
| affyILM 1.50.0 (landing page) Myriam Kroll and Fabrice Berger
| kjohnson | macOS 13.0 Ventura / arm64 | OK | OK | OK | ||||||||||||
| Package 2/9 | Hostname | OS / Arch | INSTALL | BUILD | BUILD BIN | ||||||||||||
| cn.farms 1.46.0 (landing page) Andreas Mitterecker
| kjohnson | macOS 13.0 Ventura / arm64 | OK | OK | OK | ||||||||||||
| Package 3/9 | Hostname | OS / Arch | INSTALL | BUILD | BUILD BIN | ||||||||||||
| crossmeta 1.24.0 (landing page) Alex Pickering
| kjohnson | macOS 13.0 Ventura / arm64 | OK | OK | OK | ||||||||||||
| Package 4/9 | Hostname | OS / Arch | INSTALL | BUILD | BUILD BIN | ||||||||||||
| EventPointer 3.6.0 (landing page) Juan A. Ferrer-Bonsoms
| kjohnson | macOS 13.0 Ventura / arm64 | OK | OK | OK | ||||||||||||
| Package 5/9 | Hostname | OS / Arch | INSTALL | BUILD | BUILD BIN | ||||||||||||
| GCSscore 1.12.0 (landing page) Guy M. Harris
| kjohnson | macOS 13.0 Ventura / arm64 | OK | OK | OK | ||||||||||||
| Package 6/9 | Hostname | OS / Arch | INSTALL | BUILD | BUILD BIN | ||||||||||||
| GeneRegionScan 1.54.0 (landing page) Lasse Folkersen
| kjohnson | macOS 13.0 Ventura / arm64 | OK | OK | OK | ||||||||||||
| Package 7/9 | Hostname | OS / Arch | INSTALL | BUILD | BUILD BIN | ||||||||||||
| ITALICS 2.58.0 (landing page) Guillem Rigaill
| kjohnson | macOS 13.0 Ventura / arm64 | OK | OK | OK | ||||||||||||
| Package 8/9 | Hostname | OS / Arch | INSTALL | BUILD | BUILD BIN | ||||||||||||
| oligo 1.62.2 (landing page) Benilton Carvalho
| kjohnson | macOS 13.0 Ventura / arm64 | OK | OK | OK | ||||||||||||
| Package 9/9 | Hostname | OS / Arch | INSTALL | BUILD | BUILD BIN | ||||||||||||
| pdInfoBuilder 1.62.0 (landing page) Benilton Carvalho
| kjohnson | macOS 13.0 Ventura / arm64 | OK | OK | OK | ||||||||||||